BEGIN:VCALENDAR
VERSION:2.0
PRODID:-//wp-events-plugin.com//7.2.3.1//EN
TZID:Europe/London
X-WR-TIMEZONE:Europe/London
BEGIN:VEVENT
UID:73@alexandrabowlsbath.co.uk
DTSTART;TZID=Europe/London:20240519T143000
DTEND;TZID=Europe/London:20240519T180000
DTSTAMP:20240520T233433Z
URL:https://alexandrabowlsbath.co.uk/events/chippenham-town-3/
SUMMARY:Chippenham Town
DESCRIPTION:
CATEGORIES:Friendly
LOCATION:Chippenham Town Bowls Club\, Hardenhuish Park\, Bristol Road\, Chi
 ppenham\, Wiltshire\, SN14 6LR\, United Kingdom
X-APPLE-STRUCTURED-LOCATION;VALUE=URI;X-ADDRESS=Hardenhuish Park\, Bristol 
 Road\, Chippenham\, Wiltshire\, SN14 6LR\, United Kingdom;X-APPLE-RADIUS=1
 00;X-TITLE=Chippenham Town Bowls Club:geo:0,0
END:VEVENT
BEGIN:VTIMEZONE
TZID:Europe/London
X-LIC-LOCATION:Europe/London
BEGIN:DAYLIGHT
DTSTART:20240331T020000
TZOFFSETFROM:+0000
TZOFFSETTO:+0100
TZNAME:BST
END:DAYLIGHT
END:VTIMEZONE
END:VCALENDAR