BEGIN:VCALENDAR
VERSION:2.0
PRODID:-//wp-events-plugin.com//7.2.3.1//EN
TZID:Europe/London
X-WR-TIMEZONE:Europe/London
BEGIN:VEVENT
UID:35@alexandrabowlsbath.co.uk
DTSTART:20230520T103000Z
DTEND:20230520T140000Z
DTSTAMP:20230420T150328Z
URL:https://alexandrabowlsbath.co.uk/events/portishead-rbl/
SUMMARY:Portishead RBL
DESCRIPTION:
CATEGORIES:Ladies County League
LOCATION:Portishead RBL\, Lake Grounds\, Portishead\, North Somerset\, BS20
  7HR\, United Kingdom
X-APPLE-STRUCTURED-LOCATION;VALUE=URI;X-ADDRESS=Lake Grounds\, Portishead\,
  North Somerset\, BS20 7HR\, United Kingdom;X-APPLE-RADIUS=100;X-TITLE=Por
 tishead RBL:geo:0,0
END:VEVENT
END:VCALENDAR